BEGIN:VCALENDAR
VERSION:2.0
PRODID:-//Athens Scuba - ECPv6.10.2//NONSGML v1.0//EN
CALSCALE:GREGORIAN
METHOD:PUBLISH
X-WR-CALNAME:Athens Scuba
X-ORIGINAL-URL:https://athensscuba.com
X-WR-CALDESC:Events for Athens Scuba
REFRESH-INTERVAL;VALUE=DURATION:PT1H
X-Robots-Tag:noindex
X-PUBLISHED-TTL:PT1H
BEGIN:VTIMEZONE
TZID:America/New_York
BEGIN:DAYLIGHT
TZOFFSETFROM:-0500
TZOFFSETTO:-0400
TZNAME:EDT
DTSTART:20210314T070000
END:DAYLIGHT
BEGIN:STANDARD
TZOFFSETFROM:-0400
TZOFFSETTO:-0500
TZNAME:EST
DTSTART:20211107T060000
END:STANDARD
BEGIN:DAYLIGHT
TZOFFSETFROM:-0500
TZOFFSETTO:-0400
TZNAME:EDT
DTSTART:20220313T070000
END:DAYLIGHT
BEGIN:STANDARD
TZOFFSETFROM:-0400
TZOFFSETTO:-0500
TZNAME:EST
DTSTART:20221106T060000
END:STANDARD
BEGIN:DAYLIGHT
TZOFFSETFROM:-0500
TZOFFSETTO:-0400
TZNAME:EDT
DTSTART:20230312T070000
END:DAYLIGHT
BEGIN:STANDARD
TZOFFSETFROM:-0400
TZOFFSETTO:-0500
TZNAME:EST
DTSTART:20231105T060000
END:STANDARD
END:VTIMEZONE
BEGIN:VEVENT
DTSTART;TZID=America/New_York:20230624T130000
DTEND;TZID=America/New_York:20230624T180000
DTSTAMP:20260423T125826
CREATED:20221219T215538Z
LAST-MODIFIED:20250313T175444Z
UID:10000526-1687611600-1687629600@athensscuba.com
SUMMARY:Lake Jocassee Charter
DESCRIPTION:2 dives from our custom build dive boats on beautiful lake Jocassee\, including tanks and weights
URL:https://athensscuba.com/event/lake-jocassee-charter-6/
LOCATION:Devils Fork State Park\, Lake Jocassee\, 161 Holcombe Cir\, Salem\, South Carolina\, 29676\, United States
CATEGORIES:Local Event,Training & Certification Courses
ATTACH;FMTTYPE=image/jpeg:https://athensscuba.com/wp-content/uploads/2021/07/79191.jpg
END:VEVENT
BEGIN:VEVENT
DTSTART;TZID=America/New_York:20230624T080000
DTEND;TZID=America/New_York:20230624T130000
DTSTAMP:20260423T125826
CREATED:20221219T215511Z
LAST-MODIFIED:20250313T175445Z
UID:10000525-1687593600-1687611600@athensscuba.com
SUMMARY:Lake Jocassee Charter
DESCRIPTION:2 dives from our custom build dive boats on beautiful lake Jocassee\, including tanks and weights
URL:https://athensscuba.com/event/lake-jocassee-charter-5/
LOCATION:Devils Fork State Park\, Lake Jocassee\, 161 Holcombe Cir\, Salem\, South Carolina\, 29676\, United States
CATEGORIES:Local Event,Training & Certification Courses
ATTACH;FMTTYPE=image/jpeg:https://athensscuba.com/wp-content/uploads/2021/07/79191.jpg
END:VEVENT
BEGIN:VEVENT
DTSTART;TZID=America/New_York:20230611T080000
DTEND;TZID=America/New_York:20230611T130000
DTSTAMP:20260423T125826
CREATED:20221206T203938Z
LAST-MODIFIED:20250313T175445Z
UID:10000521-1686470400-1686488400@athensscuba.com
SUMMARY:Lake Jocassee Charter
DESCRIPTION:2 dives from our custom build dive boats on beautiful lake Jocassee\, including tanks and weights
URL:https://athensscuba.com/event/lake-jocassee-charter-3/
LOCATION:Devils Fork State Park\, Lake Jocassee\, 161 Holcombe Cir\, Salem\, South Carolina\, 29676\, United States
CATEGORIES:Local Event,Training & Certification Courses
ATTACH;FMTTYPE=image/jpeg:https://athensscuba.com/wp-content/uploads/2021/07/79191.jpg
END:VEVENT
BEGIN:VEVENT
DTSTART;TZID=America/New_York:20230610T130000
DTEND;TZID=America/New_York:20230610T180000
DTSTAMP:20260423T125826
CREATED:20221206T203809Z
LAST-MODIFIED:20250313T175445Z
UID:10000520-1686402000-1686420000@athensscuba.com
SUMMARY:Lake Jocassee Charter
DESCRIPTION:2 dives from our custom build dive boats on beautiful lake Jocassee\, including tanks and weights
URL:https://athensscuba.com/event/lake-jocassee-charter-2/
LOCATION:Devils Fork State Park\, Lake Jocassee\, 161 Holcombe Cir\, Salem\, South Carolina\, 29676\, United States
CATEGORIES:Local Event,Training & Certification Courses
ATTACH;FMTTYPE=image/jpeg:https://athensscuba.com/wp-content/uploads/2021/07/79191.jpg
END:VEVENT
BEGIN:VEVENT
DTSTART;TZID=America/New_York:20230610T080000
DTEND;TZID=America/New_York:20230610T130000
DTSTAMP:20260423T125826
CREATED:20221206T203733Z
LAST-MODIFIED:20250313T175446Z
UID:10000519-1686384000-1686402000@athensscuba.com
SUMMARY:Lake Jocassee Charter
DESCRIPTION:2 dives from our custom build dive boats on beautiful lake Jocassee\, including tanks and weights
URL:https://athensscuba.com/event/lake-jocassee-charter/
LOCATION:Devils Fork State Park\, Lake Jocassee\, 161 Holcombe Cir\, Salem\, South Carolina\, 29676\, United States
CATEGORIES:Local Event,Training & Certification Courses
ATTACH;FMTTYPE=image/jpeg:https://athensscuba.com/wp-content/uploads/2021/07/79191.jpg
END:VEVENT
BEGIN:VEVENT
DTSTART;TZID=America/New_York:20221023T130000
DTEND;TZID=America/New_York:20221023T180000
DTSTAMP:20260423T125826
CREATED:20220805T182131Z
LAST-MODIFIED:20250313T175201Z
UID:10000513-1666530000-1666548000@athensscuba.com
SUMMARY:Underwater Scooter / Diver Propulsion Vehicle (DPV) class
DESCRIPTION:If scuba diving is like taking a scenic stroll around a park\, a Diver Propulsion Vehicle (DPV) is like exploring a neighborhood on an (electric) bicycle.  DPVs\, also called underwater scooters\, allow you to see more\, conserve air and get from one place to another faster – with a huge smile on your face. For this exciting new class we can take a maximum of two students at the time. The class includes PADI eLearning\, two dives from one of the boats at Lake Jocassee and the rental of the Scooter.
URL:https://athensscuba.com/event/underwater-scooter-diver-propulsion-vehicle-dpv-class-2/
LOCATION:Devils Fork State Park\, Lake Jocassee\, 161 Holcombe Cir\, Salem\, South Carolina\, 29676\, United States
CATEGORIES:Local Event
ATTACH;FMTTYPE=image/jpeg:https://athensscuba.com/wp-content/uploads/2022/08/DPV2-1tnSpn27.jpeg
END:VEVENT
BEGIN:VEVENT
DTSTART;TZID=America/New_York:20221023T080000
DTEND;TZID=America/New_York:20221023T130000
DTSTAMP:20260423T125826
CREATED:20220805T182035Z
LAST-MODIFIED:20250313T175201Z
UID:10000512-1666512000-1666530000@athensscuba.com
SUMMARY:Underwater Scooter / Diver Propulsion Vehicle (DPV) class
DESCRIPTION:If scuba diving is like taking a scenic stroll around a park\, a Diver Propulsion Vehicle (DPV) is like exploring a neighborhood on an (electric) bicycle.  DPVs\, also called underwater scooters\, allow you to see more\, conserve air and get from one place to another faster – with a huge smile on your face. For this exciting new class we can take a maximum of two students at the time. The class includes PADI eLearning\, two dives from one of the boats at Lake Jocassee and the rental of the Scooter.
URL:https://athensscuba.com/event/underwater-scooter-diver-propulsion-vehicle-dpv-class/
LOCATION:Devils Fork State Park\, Lake Jocassee\, 161 Holcombe Cir\, Salem\, South Carolina\, 29676\, United States
CATEGORIES:Local Event
ATTACH;FMTTYPE=image/jpeg:https://athensscuba.com/wp-content/uploads/2022/08/DPV2-1tnSpn27.jpeg
END:VEVENT
BEGIN:VEVENT
DTSTART;TZID=America/New_York:20221023T080000
DTEND;TZID=America/New_York:20221023T130000
DTSTAMP:20260423T125826
CREATED:20220516T190722Z
LAST-MODIFIED:20250313T175201Z
UID:10000504-1666512000-1666530000@athensscuba.com
SUMMARY:PADI Open Water Diver course
DESCRIPTION:PADI Open Water check out dives 3-4
URL:https://athensscuba.com/event/padi-open-water-diver-course-21/
LOCATION:Devils Fork State Park\, Lake Jocassee\, 161 Holcombe Cir\, Salem\, South Carolina\, 29676\, United States
CATEGORIES:Local Event,Training & Certification Courses
ATTACH;FMTTYPE=image/jpeg:https://athensscuba.com/wp-content/uploads/2021/07/79191.jpg
END:VEVENT
BEGIN:VEVENT
DTSTART;TZID=America/New_York:20221022T130000
DTEND;TZID=America/New_York:20221022T193000
DTSTAMP:20260423T125826
CREATED:20220810T150225Z
LAST-MODIFIED:20250313T175202Z
UID:10000515-1666443600-1666467000@athensscuba.com
SUMMARY:Pumpkin Carving and Low Country Boil
DESCRIPTION:End of our Lake Jocassee season pumpkin carving party. Under water pumpkin carving\, costume contest\, low country boil with amazing prizes!
URL:https://athensscuba.com/event/pumpkin-carving-and-low-country-boil/
LOCATION:Devils Fork State Park\, Lake Jocassee\, 161 Holcombe Cir\, Salem\, South Carolina\, 29676\, United States
CATEGORIES:Local Event
ATTACH;FMTTYPE=image/jpeg:https://athensscuba.com/wp-content/uploads/2022/08/Pumpkin-carving.jpg
END:VEVENT
BEGIN:VEVENT
DTSTART;TZID=America/New_York:20221022T130000
DTEND;TZID=America/New_York:20221022T180000
DTSTAMP:20260423T125826
CREATED:20220516T190740Z
LAST-MODIFIED:20250313T175202Z
UID:10000505-1666443600-1666461600@athensscuba.com
SUMMARY:PADI Open Water Diver Course
DESCRIPTION:PADI Open Water Diver check out dives 1 and 2
URL:https://athensscuba.com/event/padi-open-water-diver-course-22/
LOCATION:Devils Fork State Park\, Lake Jocassee\, 161 Holcombe Cir\, Salem\, South Carolina\, 29676\, United States
CATEGORIES:Local Event,Training & Certification Courses
ATTACH;FMTTYPE=image/jpeg:https://athensscuba.com/wp-content/uploads/2021/07/79189.jpg
END:VEVENT
BEGIN:VEVENT
DTSTART;TZID=America/New_York:20221009T080000
DTEND;TZID=America/New_York:20221009T130000
DTSTAMP:20260423T125826
CREATED:20220516T190531Z
LAST-MODIFIED:20250313T175203Z
UID:10000502-1665302400-1665320400@athensscuba.com
SUMMARY:PADI Open Water Diver course
DESCRIPTION:PADI Open Water check out dives 3-4
URL:https://athensscuba.com/event/padi-open-water-diver-course-19/
LOCATION:Devils Fork State Park\, Lake Jocassee\, 161 Holcombe Cir\, Salem\, South Carolina\, 29676\, United States
CATEGORIES:Local Event,Training & Certification Courses
ATTACH;FMTTYPE=image/jpeg:https://athensscuba.com/wp-content/uploads/2021/07/79191.jpg
END:VEVENT
BEGIN:VEVENT
DTSTART;TZID=America/New_York:20221008T130000
DTEND;TZID=America/New_York:20221008T180000
DTSTAMP:20260423T125826
CREATED:20220516T190630Z
LAST-MODIFIED:20250313T175203Z
UID:10000503-1665234000-1665252000@athensscuba.com
SUMMARY:PADI Open Water Diver Course
DESCRIPTION:PADI Open Water Diver check out dives 1 and 2
URL:https://athensscuba.com/event/padi-open-water-diver-course-20/
LOCATION:Devils Fork State Park\, Lake Jocassee\, 161 Holcombe Cir\, Salem\, South Carolina\, 29676\, United States
CATEGORIES:Local Event,Training & Certification Courses
ATTACH;FMTTYPE=image/jpeg:https://athensscuba.com/wp-content/uploads/2021/07/79189.jpg
END:VEVENT
BEGIN:VEVENT
DTSTART;TZID=America/New_York:20220925T080000
DTEND;TZID=America/New_York:20220925T130000
DTSTAMP:20260423T125826
CREATED:20220516T190438Z
LAST-MODIFIED:20250313T175203Z
UID:10000500-1664092800-1664110800@athensscuba.com
SUMMARY:PADI Open Water Diver course
DESCRIPTION:PADI Open Water check out dives 3-4
URL:https://athensscuba.com/event/padi-open-water-diver-course-17/
LOCATION:Devils Fork State Park\, Lake Jocassee\, 161 Holcombe Cir\, Salem\, South Carolina\, 29676\, United States
CATEGORIES:Local Event,Training & Certification Courses
ATTACH;FMTTYPE=image/jpeg:https://athensscuba.com/wp-content/uploads/2021/07/79191.jpg
END:VEVENT
BEGIN:VEVENT
DTSTART;TZID=America/New_York:20220924T130000
DTEND;TZID=America/New_York:20220924T180000
DTSTAMP:20260423T125826
CREATED:20220516T190501Z
LAST-MODIFIED:20250313T175204Z
UID:10000501-1664024400-1664042400@athensscuba.com
SUMMARY:PADI Open Water Diver Course
DESCRIPTION:PADI Open Water Diver check out dives 1 and 2
URL:https://athensscuba.com/event/padi-open-water-diver-course-18/
LOCATION:Devils Fork State Park\, Lake Jocassee\, 161 Holcombe Cir\, Salem\, South Carolina\, 29676\, United States
CATEGORIES:Local Event,Training & Certification Courses
ATTACH;FMTTYPE=image/jpeg:https://athensscuba.com/wp-content/uploads/2021/07/79189.jpg
END:VEVENT
BEGIN:VEVENT
DTSTART;TZID=America/New_York:20220911T080000
DTEND;TZID=America/New_York:20220911T130000
DTSTAMP:20260423T125826
CREATED:20220516T190408Z
LAST-MODIFIED:20250313T175204Z
UID:10000498-1662883200-1662901200@athensscuba.com
SUMMARY:PADI Open Water Diver course
DESCRIPTION:PADI Open Water check out dives 3-4
URL:https://athensscuba.com/event/padi-open-water-diver-course-16/
LOCATION:Devils Fork State Park\, Lake Jocassee\, 161 Holcombe Cir\, Salem\, South Carolina\, 29676\, United States
CATEGORIES:Local Event,Training & Certification Courses
ATTACH;FMTTYPE=image/jpeg:https://athensscuba.com/wp-content/uploads/2021/07/79191.jpg
END:VEVENT
BEGIN:VEVENT
DTSTART;TZID=America/New_York:20220910T130000
DTEND;TZID=America/New_York:20220910T180000
DTSTAMP:20260423T125826
CREATED:20220516T190348Z
LAST-MODIFIED:20250313T175204Z
UID:10000499-1662814800-1662832800@athensscuba.com
SUMMARY:PADI Open Water Diver Course
DESCRIPTION:PADI Open Water Diver check out dives 1 and 2
URL:https://athensscuba.com/event/padi-open-water-diver-course-15/
LOCATION:Devils Fork State Park\, Lake Jocassee\, 161 Holcombe Cir\, Salem\, South Carolina\, 29676\, United States
CATEGORIES:Local Event,Training & Certification Courses
ATTACH;FMTTYPE=image/jpeg:https://athensscuba.com/wp-content/uploads/2021/07/79189.jpg
END:VEVENT
BEGIN:VEVENT
DTSTART;TZID=America/New_York:20220828T080000
DTEND;TZID=America/New_York:20220828T130000
DTSTAMP:20260423T125826
CREATED:20220516T190249Z
LAST-MODIFIED:20250313T175205Z
UID:10000497-1661673600-1661691600@athensscuba.com
SUMMARY:PADI Open Water Diver course
DESCRIPTION:PADI Open Water check out dives 3-4
URL:https://athensscuba.com/event/padi-open-water-diver-course-13/
LOCATION:Devils Fork State Park\, Lake Jocassee\, 161 Holcombe Cir\, Salem\, South Carolina\, 29676\, United States
CATEGORIES:Local Event,Training & Certification Courses
ATTACH;FMTTYPE=image/jpeg:https://athensscuba.com/wp-content/uploads/2021/07/79191.jpg
END:VEVENT
BEGIN:VEVENT
DTSTART;TZID=America/New_York:20220827T130000
DTEND;TZID=America/New_York:20220827T180000
DTSTAMP:20260423T125826
CREATED:20220516T190308Z
LAST-MODIFIED:20250313T175205Z
UID:10000496-1661605200-1661623200@athensscuba.com
SUMMARY:PADI Open Water Diver Course
DESCRIPTION:PADI Open Water Diver check out dives 1 and 2
URL:https://athensscuba.com/event/padi-open-water-diver-course-14/
LOCATION:Devils Fork State Park\, Lake Jocassee\, 161 Holcombe Cir\, Salem\, South Carolina\, 29676\, United States
CATEGORIES:Local Event,Training & Certification Courses
ATTACH;FMTTYPE=image/jpeg:https://athensscuba.com/wp-content/uploads/2021/07/79189.jpg
END:VEVENT
BEGIN:VEVENT
DTSTART;TZID=America/New_York:20220814T080000
DTEND;TZID=America/New_York:20220814T130000
DTSTAMP:20260423T125826
CREATED:20220516T190216Z
LAST-MODIFIED:20250313T175206Z
UID:10000495-1660464000-1660482000@athensscuba.com
SUMMARY:PADI Open Water Diver course
DESCRIPTION:PADI Open Water check out dives 3-4
URL:https://athensscuba.com/event/padi-open-water-diver-course-12/
LOCATION:Devils Fork State Park\, Lake Jocassee\, 161 Holcombe Cir\, Salem\, South Carolina\, 29676\, United States
CATEGORIES:Local Event,Training & Certification Courses
ATTACH;FMTTYPE=image/jpeg:https://athensscuba.com/wp-content/uploads/2021/07/79191.jpg
END:VEVENT
BEGIN:VEVENT
DTSTART;TZID=America/New_York:20220813T130000
DTEND;TZID=America/New_York:20220813T180000
DTSTAMP:20260423T125826
CREATED:20220516T190158Z
LAST-MODIFIED:20250313T175206Z
UID:10000494-1660395600-1660413600@athensscuba.com
SUMMARY:PADI Open Water Diver Course
DESCRIPTION:PADI Open Water Diver check out dives 1 and 2
URL:https://athensscuba.com/event/padi-open-water-diver-course-11/
LOCATION:Devils Fork State Park\, Lake Jocassee\, 161 Holcombe Cir\, Salem\, South Carolina\, 29676\, United States
CATEGORIES:Local Event,Training & Certification Courses
ATTACH;FMTTYPE=image/jpeg:https://athensscuba.com/wp-content/uploads/2021/07/79189.jpg
END:VEVENT
BEGIN:VEVENT
DTSTART;TZID=America/New_York:20220724T080000
DTEND;TZID=America/New_York:20220724T130000
DTSTAMP:20260423T125826
CREATED:20220516T190058Z
LAST-MODIFIED:20250313T175206Z
UID:10000493-1658649600-1658667600@athensscuba.com
SUMMARY:PADI Open Water Diver course
DESCRIPTION:PADI Open Water check out dives 3-4
URL:https://athensscuba.com/event/padi-open-water-diver-course-10/
LOCATION:Devils Fork State Park\, Lake Jocassee\, 161 Holcombe Cir\, Salem\, South Carolina\, 29676\, United States
CATEGORIES:Local Event,Training & Certification Courses
ATTACH;FMTTYPE=image/jpeg:https://athensscuba.com/wp-content/uploads/2021/07/79191.jpg
END:VEVENT
BEGIN:VEVENT
DTSTART;TZID=America/New_York:20220723T130000
DTEND;TZID=America/New_York:20220723T180000
DTSTAMP:20260423T125826
CREATED:20220516T190041Z
LAST-MODIFIED:20250313T175207Z
UID:10000492-1658581200-1658599200@athensscuba.com
SUMMARY:PADI Open Water Diver Course
DESCRIPTION:PADI Open Water Diver check out dives 1 and 2
URL:https://athensscuba.com/event/padi-open-water-diver-course-9/
LOCATION:Devils Fork State Park\, Lake Jocassee\, 161 Holcombe Cir\, Salem\, South Carolina\, 29676\, United States
CATEGORIES:Local Event,Training & Certification Courses
ATTACH;FMTTYPE=image/jpeg:https://athensscuba.com/wp-content/uploads/2021/07/79189.jpg
END:VEVENT
BEGIN:VEVENT
DTSTART;TZID=America/New_York:20220710T080000
DTEND;TZID=America/New_York:20220710T130000
DTSTAMP:20260423T125826
CREATED:20220516T190001Z
LAST-MODIFIED:20250313T175207Z
UID:10000491-1657440000-1657458000@athensscuba.com
SUMMARY:PADI Open Water Diver course
DESCRIPTION:PADI Open Water check out dives 3-4
URL:https://athensscuba.com/event/padi-open-water-diver-course-8/
LOCATION:Devils Fork State Park\, Lake Jocassee\, 161 Holcombe Cir\, Salem\, South Carolina\, 29676\, United States
CATEGORIES:Local Event,Training & Certification Courses
ATTACH;FMTTYPE=image/jpeg:https://athensscuba.com/wp-content/uploads/2021/07/79191.jpg
END:VEVENT
BEGIN:VEVENT
DTSTART;TZID=America/New_York:20220709T130000
DTEND;TZID=America/New_York:20220709T180000
DTSTAMP:20260423T125826
CREATED:20220516T185942Z
LAST-MODIFIED:20250313T175207Z
UID:10000490-1657371600-1657389600@athensscuba.com
SUMMARY:PADI Open Water Diver Course
DESCRIPTION:PADI Open Water Diver check out dives 1 and 2
URL:https://athensscuba.com/event/padi-open-water-diver-course-7/
LOCATION:Devils Fork State Park\, Lake Jocassee\, 161 Holcombe Cir\, Salem\, South Carolina\, 29676\, United States
CATEGORIES:Local Event,Training & Certification Courses
ATTACH;FMTTYPE=image/jpeg:https://athensscuba.com/wp-content/uploads/2021/07/79189.jpg
END:VEVENT
BEGIN:VEVENT
DTSTART;TZID=America/New_York:20220626T080000
DTEND;TZID=America/New_York:20220626T130000
DTSTAMP:20260423T125826
CREATED:20220120T193810Z
LAST-MODIFIED:20250313T175208Z
UID:10000485-1656230400-1656248400@athensscuba.com
SUMMARY:PADI Open Water Diver course
DESCRIPTION:PADI Open Water check out dives 3-4
URL:https://athensscuba.com/event/padi-open-water-diver-course-6/
LOCATION:Devils Fork State Park\, Lake Jocassee\, 161 Holcombe Cir\, Salem\, South Carolina\, 29676\, United States
CATEGORIES:Local Event,Training & Certification Courses
ATTACH;FMTTYPE=image/jpeg:https://athensscuba.com/wp-content/uploads/2021/07/79191.jpg
END:VEVENT
BEGIN:VEVENT
DTSTART;TZID=America/New_York:20220625T130000
DTEND;TZID=America/New_York:20220625T180000
DTSTAMP:20260423T125826
CREATED:20220120T193742Z
LAST-MODIFIED:20250313T175208Z
UID:10000484-1656162000-1656180000@athensscuba.com
SUMMARY:PADI Open Water Diver Course
DESCRIPTION:PADI Open Water Diver check out dives 1 and 2
URL:https://athensscuba.com/event/padi-open-water-diver-course-5/
LOCATION:Devils Fork State Park\, Lake Jocassee\, 161 Holcombe Cir\, Salem\, South Carolina\, 29676\, United States
CATEGORIES:Local Event,Training & Certification Courses
ATTACH;FMTTYPE=image/jpeg:https://athensscuba.com/wp-content/uploads/2021/07/79189.jpg
END:VEVENT
BEGIN:VEVENT
DTSTART;TZID=America/New_York:20220522T080000
DTEND;TZID=America/New_York:20220522T130000
DTSTAMP:20260423T125826
CREATED:20220120T193613Z
LAST-MODIFIED:20250313T175208Z
UID:10000482-1653206400-1653224400@athensscuba.com
SUMMARY:PADI Open Water Diver course
DESCRIPTION:PADI Open Water check out dives 3-4
URL:https://athensscuba.com/event/padi-open-water-diver-course-3/
LOCATION:Devils Fork State Park\, Lake Jocassee\, 161 Holcombe Cir\, Salem\, South Carolina\, 29676\, United States
CATEGORIES:Local Event,Training & Certification Courses
ATTACH;FMTTYPE=image/jpeg:https://athensscuba.com/wp-content/uploads/2021/07/79191.jpg
END:VEVENT
BEGIN:VEVENT
DTSTART;TZID=America/New_York:20220521T130000
DTEND;TZID=America/New_York:20220521T180000
DTSTAMP:20260423T125826
CREATED:20220120T193703Z
LAST-MODIFIED:20250313T175209Z
UID:10000483-1653138000-1653156000@athensscuba.com
SUMMARY:PADI Open Water Diver Course
DESCRIPTION:PADI Open Water Diver check out dives 1 and 2
URL:https://athensscuba.com/event/padi-open-water-diver-course-4/
LOCATION:Devils Fork State Park\, Lake Jocassee\, 161 Holcombe Cir\, Salem\, South Carolina\, 29676\, United States
CATEGORIES:Local Event,Training & Certification Courses
ATTACH;FMTTYPE=image/jpeg:https://athensscuba.com/wp-content/uploads/2021/07/79189.jpg
END:VEVENT
BEGIN:VEVENT
DTSTART;TZID=America/New_York:20210926T080000
DTEND;TZID=America/New_York:20210926T130000
DTSTAMP:20260423T125826
CREATED:20210727T164243Z
LAST-MODIFIED:20250313T175209Z
UID:10000473-1632643200-1632661200@athensscuba.com
SUMMARY:PADI Open Water Diver course
DESCRIPTION:PADI Open Water check out dives 3-4
URL:https://athensscuba.com/event/padi-open-water-diver-course/
LOCATION:Devils Fork State Park\, Lake Jocassee\, 161 Holcombe Cir\, Salem\, South Carolina\, 29676\, United States
CATEGORIES:Local Event,Training & Certification Courses
ATTACH;FMTTYPE=image/jpeg:https://athensscuba.com/wp-content/uploads/2021/07/79191.jpg
END:VEVENT
BEGIN:VEVENT
DTSTART;TZID=America/New_York:20210925T130000
DTEND;TZID=America/New_York:20210925T180000
DTSTAMP:20260423T125826
CREATED:20210727T164322Z
LAST-MODIFIED:20250313T175210Z
UID:10000474-1632574800-1632592800@athensscuba.com
SUMMARY:PADI Open Water Diver Course
DESCRIPTION:PADI Open Water Diver check out dives 1 and 2
URL:https://athensscuba.com/event/padi-open-water-diver-course-2/
LOCATION:Devils Fork State Park\, Lake Jocassee\, 161 Holcombe Cir\, Salem\, South Carolina\, 29676\, United States
CATEGORIES:Local Event,Training & Certification Courses
ATTACH;FMTTYPE=image/jpeg:https://athensscuba.com/wp-content/uploads/2021/07/79189.jpg
END:VEVENT
END:VCALENDAR