BEGIN:VCALENDAR
VERSION:2.0
PRODID:-//Athens Scuba - ECPv6.10.2//NONSGML v1.0//EN
CALSCALE:GREGORIAN
METHOD:PUBLISH
X-WR-CALNAME:Athens Scuba
X-ORIGINAL-URL:https://athensscuba.com
X-WR-CALDESC:Events for Athens Scuba
REFRESH-INTERVAL;VALUE=DURATION:PT1H
X-Robots-Tag:noindex
X-PUBLISHED-TTL:PT1H
BEGIN:VTIMEZONE
TZID:America/New_York
BEGIN:DAYLIGHT
TZOFFSETFROM:-0500
TZOFFSETTO:-0400
TZNAME:EDT
DTSTART:20230312T070000
END:DAYLIGHT
BEGIN:STANDARD
TZOFFSETFROM:-0400
TZOFFSETTO:-0500
TZNAME:EST
DTSTART:20231105T060000
END:STANDARD
END:VTIMEZONE
BEGIN:VEVENT
DTSTART;TZID=America/New_York:20230917T080000
DTEND;TZID=America/New_York:20230917T130000
DTSTAMP:20260423T050343
CREATED:20230426T150642Z
LAST-MODIFIED:20250313T175439Z
UID:10000557-1694937600-1694955600@athensscuba.com
SUMMARY:Lake Jocassee Charter
DESCRIPTION:2 dives from our custom build dive boats on beautiful lake Jocassee\, including tanks and weights
URL:https://athensscuba.com/event/lake-jocassee-charter-30/
LOCATION:Devils Fork State Park\, Lake Jocassee\, 161 Holcombe Cir\, Salem\, South Carolina\, 29676\, United States
CATEGORIES:Local Event,Training & Certification Courses
ATTACH;FMTTYPE=image/jpeg:https://athensscuba.com/wp-content/uploads/2021/07/79191.jpg
END:VEVENT
BEGIN:VEVENT
DTSTART;TZID=America/New_York:20230916T130000
DTEND;TZID=America/New_York:20230916T180000
DTSTAMP:20260423T050343
CREATED:20230426T150524Z
LAST-MODIFIED:20250313T175439Z
UID:10000558-1694869200-1694887200@athensscuba.com
SUMMARY:Lake Jocassee Charter
DESCRIPTION:2 dives from our custom build dive boats on beautiful lake Jocassee\, including tanks and weights
URL:https://athensscuba.com/event/lake-jocassee-charter-29/
LOCATION:Devils Fork State Park\, Lake Jocassee\, 161 Holcombe Cir\, Salem\, South Carolina\, 29676\, United States
CATEGORIES:Local Event,Training & Certification Courses
ATTACH;FMTTYPE=image/jpeg:https://athensscuba.com/wp-content/uploads/2021/07/79191.jpg
END:VEVENT
BEGIN:VEVENT
DTSTART;TZID=America/New_York:20230916T080000
DTEND;TZID=America/New_York:20230916T180000
DTSTAMP:20260423T050343
CREATED:20230730T121039Z
LAST-MODIFIED:20250313T175439Z
UID:10000581-1694851200-1694887200@athensscuba.com
SUMMARY:Deep Dive Specialty class @ Lake Jocassee
DESCRIPTION:When you dive below 60 feet\, there are special safety considerations.  If you’re ready to expand your boundaries\,  our will help you gain the skills and confidence to explore to a maximum depth of 130 feet. During the Deep Diver course\, you’ll learn how to plan deep dives\, manage your gas supply and how to identify and manage narcosis.You’ll learn about buddy contact procedures\, safety considerations and buoyancy control at depth.  To attend this class you have to be a PADI or SDI Advanced diver.  We’ll do 3 training dives and a total of 4 dives this day to teach you everything you need to know about deep diving. \nDeep Diver
URL:https://athensscuba.com/event/deep-dive-specialty-class-lake-jocassee/
CATEGORIES:Local Event
ATTACH;FMTTYPE=image/jpeg:https://athensscuba.com/wp-content/uploads/2023/07/DeepDiver-Gallery-He-M3duXROa.jpg
END:VEVENT
BEGIN:VEVENT
DTSTART;TZID=America/New_York:20230916T080000
DTEND;TZID=America/New_York:20230916T130000
DTSTAMP:20260423T050343
CREATED:20230426T144143Z
LAST-MODIFIED:20250313T175439Z
UID:10000561-1694851200-1694869200@athensscuba.com
SUMMARY:Lake Jocassee Charter
DESCRIPTION:2 dives from our custom build dive boats on beautiful lake Jocassee\, including tanks and weights
URL:https://athensscuba.com/event/lake-jocassee-charter-27/
LOCATION:Devils Fork State Park\, Lake Jocassee\, 161 Holcombe Cir\, Salem\, South Carolina\, 29676\, United States
CATEGORIES:Local Event,Training & Certification Courses
ATTACH;FMTTYPE=image/jpeg:https://athensscuba.com/wp-content/uploads/2021/07/79191.jpg
END:VEVENT
BEGIN:VEVENT
DTSTART;TZID=America/New_York:20230910T130000
DTEND;TZID=America/New_York:20230910T180000
DTSTAMP:20260423T050343
CREATED:20230426T143934Z
LAST-MODIFIED:20250313T175439Z
UID:10000556-1694350800-1694368800@athensscuba.com
SUMMARY:Lake Jocassee Charter
DESCRIPTION:2 dives from our custom build dive boats on beautiful lake Jocassee\, including tanks and weights
URL:https://athensscuba.com/event/lake-jocassee-charter-24/
LOCATION:Devils Fork State Park\, Lake Jocassee\, 161 Holcombe Cir\, Salem\, South Carolina\, 29676\, United States
CATEGORIES:Local Event,Training & Certification Courses
ATTACH;FMTTYPE=image/jpeg:https://athensscuba.com/wp-content/uploads/2021/07/79191.jpg
END:VEVENT
BEGIN:VEVENT
DTSTART;TZID=America/New_York:20230910T080000
DTEND;TZID=America/New_York:20230910T130000
DTSTAMP:20260423T050343
CREATED:20230426T144026Z
LAST-MODIFIED:20250313T175440Z
UID:10000559-1694332800-1694350800@athensscuba.com
SUMMARY:Lake Jocassee Charter
DESCRIPTION:2 dives from our custom build dive boats on beautiful lake Jocassee\, including tanks and weights
URL:https://athensscuba.com/event/lake-jocassee-charter-25/
LOCATION:Devils Fork State Park\, Lake Jocassee\, 161 Holcombe Cir\, Salem\, South Carolina\, 29676\, United States
CATEGORIES:Local Event,Training & Certification Courses
ATTACH;FMTTYPE=image/jpeg:https://athensscuba.com/wp-content/uploads/2021/07/79191.jpg
END:VEVENT
BEGIN:VEVENT
DTSTART;TZID=America/New_York:20230909T130000
DTEND;TZID=America/New_York:20230909T180000
DTSTAMP:20260423T050343
CREATED:20230426T150303Z
LAST-MODIFIED:20250313T175440Z
UID:10000562-1694264400-1694282400@athensscuba.com
SUMMARY:Lake Jocassee Charter
DESCRIPTION:2 dives from our custom build dive boats on beautiful lake Jocassee\, including tanks and weights
URL:https://athensscuba.com/event/lake-jocassee-charter-28/
LOCATION:Devils Fork State Park\, Lake Jocassee\, 161 Holcombe Cir\, Salem\, South Carolina\, 29676\, United States
CATEGORIES:Local Event,Training & Certification Courses
ATTACH;FMTTYPE=image/jpeg:https://athensscuba.com/wp-content/uploads/2021/07/79191.jpg
END:VEVENT
BEGIN:VEVENT
DTSTART;TZID=America/New_York:20230909T130000
DTEND;TZID=America/New_York:20230909T180000
DTSTAMP:20260423T050343
CREATED:20230426T144100Z
LAST-MODIFIED:20250313T175440Z
UID:10000560-1694264400-1694282400@athensscuba.com
SUMMARY:Lake Jocassee Charter
DESCRIPTION:2 dives from our custom build dive boats on beautiful lake Jocassee\, including tanks and weights
URL:https://athensscuba.com/event/lake-jocassee-charter-26/
LOCATION:Devils Fork State Park\, Lake Jocassee\, 161 Holcombe Cir\, Salem\, South Carolina\, 29676\, United States
CATEGORIES:Local Event,Training & Certification Courses
ATTACH;FMTTYPE=image/jpeg:https://athensscuba.com/wp-content/uploads/2021/07/79191.jpg
END:VEVENT
BEGIN:VEVENT
DTSTART;TZID=America/New_York:20230827T130000
DTEND;TZID=America/New_York:20230827T180000
DTSTAMP:20260423T050343
CREATED:20230125T222608Z
LAST-MODIFIED:20250313T175440Z
UID:10000546-1693141200-1693159200@athensscuba.com
SUMMARY:Lake Jocassee Charter
DESCRIPTION:2 dives from our custom build dive boats on beautiful lake Jocassee\, including tanks and weights
URL:https://athensscuba.com/event/lake-jocassee-charter-23/
LOCATION:Devils Fork State Park\, Lake Jocassee\, 161 Holcombe Cir\, Salem\, South Carolina\, 29676\, United States
CATEGORIES:Local Event,Training & Certification Courses
ATTACH;FMTTYPE=image/jpeg:https://athensscuba.com/wp-content/uploads/2021/07/79191.jpg
END:VEVENT
BEGIN:VEVENT
DTSTART;TZID=America/New_York:20230827T080000
DTEND;TZID=America/New_York:20230827T130000
DTSTAMP:20260423T050343
CREATED:20230125T222543Z
LAST-MODIFIED:20250313T175441Z
UID:10000545-1693123200-1693141200@athensscuba.com
SUMMARY:Lake Jocassee Charter
DESCRIPTION:2 dives from our custom build dive boats on beautiful lake Jocassee\, including tanks and weights
URL:https://athensscuba.com/event/lake-jocassee-charter-22/
LOCATION:Devils Fork State Park\, Lake Jocassee\, 161 Holcombe Cir\, Salem\, South Carolina\, 29676\, United States
CATEGORIES:Local Event,Training & Certification Courses
ATTACH;FMTTYPE=image/jpeg:https://athensscuba.com/wp-content/uploads/2021/07/79191.jpg
END:VEVENT
BEGIN:VEVENT
DTSTART;TZID=America/New_York:20230826T130000
DTEND;TZID=America/New_York:20230826T180000
DTSTAMP:20260423T050343
CREATED:20230125T222517Z
LAST-MODIFIED:20250313T175441Z
UID:10000544-1693054800-1693072800@athensscuba.com
SUMMARY:Lake Jocassee Charter
DESCRIPTION:2 dives from our custom build dive boats on beautiful lake Jocassee\, including tanks and weights
URL:https://athensscuba.com/event/lake-jocassee-charter-21/
LOCATION:Devils Fork State Park\, Lake Jocassee\, 161 Holcombe Cir\, Salem\, South Carolina\, 29676\, United States
CATEGORIES:Local Event,Training & Certification Courses
ATTACH;FMTTYPE=image/jpeg:https://athensscuba.com/wp-content/uploads/2021/07/79191.jpg
END:VEVENT
BEGIN:VEVENT
DTSTART;TZID=America/New_York:20230826T080000
DTEND;TZID=America/New_York:20230826T130000
DTSTAMP:20260423T050343
CREATED:20230125T222452Z
LAST-MODIFIED:20250313T175441Z
UID:10000543-1693036800-1693054800@athensscuba.com
SUMMARY:Lake Jocassee Charter
DESCRIPTION:2 dives from our custom build dive boats on beautiful lake Jocassee\, including tanks and weights
URL:https://athensscuba.com/event/lake-jocassee-charter-20/
LOCATION:Devils Fork State Park\, Lake Jocassee\, 161 Holcombe Cir\, Salem\, South Carolina\, 29676\, United States
CATEGORIES:Local Event,Training & Certification Courses
ATTACH;FMTTYPE=image/jpeg:https://athensscuba.com/wp-content/uploads/2021/07/79191.jpg
END:VEVENT
BEGIN:VEVENT
DTSTART;TZID=America/New_York:20230813T130000
DTEND;TZID=America/New_York:20230813T180000
DTSTAMP:20260423T050343
CREATED:20230125T222410Z
LAST-MODIFIED:20250313T175441Z
UID:10000542-1691931600-1691949600@athensscuba.com
SUMMARY:Lake Jocassee Charter
DESCRIPTION:2 dives from our custom build dive boats on beautiful lake Jocassee\, including tanks and weights
URL:https://athensscuba.com/event/lake-jocassee-charter-19/
LOCATION:Devils Fork State Park\, Lake Jocassee\, 161 Holcombe Cir\, Salem\, South Carolina\, 29676\, United States
CATEGORIES:Local Event,Training & Certification Courses
ATTACH;FMTTYPE=image/jpeg:https://athensscuba.com/wp-content/uploads/2021/07/79191.jpg
END:VEVENT
BEGIN:VEVENT
DTSTART;TZID=America/New_York:20230813T080000
DTEND;TZID=America/New_York:20230813T130000
DTSTAMP:20260423T050343
CREATED:20230125T222347Z
LAST-MODIFIED:20250313T175442Z
UID:10000540-1691913600-1691931600@athensscuba.com
SUMMARY:Lake Jocassee Charter
DESCRIPTION:2 dives from our custom build dive boats on beautiful lake Jocassee\, including tanks and weights
URL:https://athensscuba.com/event/lake-jocassee-charter-18/
LOCATION:Devils Fork State Park\, Lake Jocassee\, 161 Holcombe Cir\, Salem\, South Carolina\, 29676\, United States
CATEGORIES:Local Event,Training & Certification Courses
ATTACH;FMTTYPE=image/jpeg:https://athensscuba.com/wp-content/uploads/2021/07/79191.jpg
END:VEVENT
BEGIN:VEVENT
DTSTART;TZID=America/New_York:20230812T130000
DTEND;TZID=America/New_York:20230812T180000
DTSTAMP:20260423T050343
CREATED:20230125T222327Z
LAST-MODIFIED:20250313T175442Z
UID:10000539-1691845200-1691863200@athensscuba.com
SUMMARY:Lake Jocassee Charter
DESCRIPTION:2 dives from our custom build dive boats on beautiful lake Jocassee\, including tanks and weights
URL:https://athensscuba.com/event/lake-jocassee-charter-17/
LOCATION:Devils Fork State Park\, Lake Jocassee\, 161 Holcombe Cir\, Salem\, South Carolina\, 29676\, United States
CATEGORIES:Local Event,Training & Certification Courses
ATTACH;FMTTYPE=image/jpeg:https://athensscuba.com/wp-content/uploads/2021/07/79191.jpg
END:VEVENT
BEGIN:VEVENT
DTSTART;TZID=America/New_York:20230812T080000
DTEND;TZID=America/New_York:20230812T130000
DTSTAMP:20260423T050343
CREATED:20230123T220033Z
LAST-MODIFIED:20250313T175442Z
UID:10000538-1691827200-1691845200@athensscuba.com
SUMMARY:Lake Jocassee Charter
DESCRIPTION:2 dives from our custom build dive boats on beautiful lake Jocassee\, including tanks and weights
URL:https://athensscuba.com/event/lake-jocassee-charter-16/
LOCATION:Devils Fork State Park\, Lake Jocassee\, 161 Holcombe Cir\, Salem\, South Carolina\, 29676\, United States
CATEGORIES:Local Event,Training & Certification Courses
ATTACH;FMTTYPE=image/jpeg:https://athensscuba.com/wp-content/uploads/2021/07/79191.jpg
END:VEVENT
BEGIN:VEVENT
DTSTART;TZID=America/New_York:20230808T180000
DTEND;TZID=America/New_York:20230808T203000
DTSTAMP:20260423T050343
CREATED:20230728T125855Z
LAST-MODIFIED:20250313T175442Z
UID:10000579-1691517600-1691526600@athensscuba.com
SUMMARY:Enriched Air Nitrox class
DESCRIPTION:Enriched Air Nitrox (EANX) contains less nitrogen than regular air.  Breathing less nitrogen means you can enjoy longer dives and shorter surface intervals. No wonder Enriched Air Diver is the most popular PADI® specialty. \nhttps://athensscuba.com/enriched-air-diver/
URL:https://athensscuba.com/event/enriched-air-nitrox-class-7/
LOCATION:Georgia Aquatic Center\, 1545 S Bishop Farms Pkwy\, Watkinsville\, Georgia\, 30677\, United States
CATEGORIES:Local Event
ATTACH;FMTTYPE=image/jpeg:https://athensscuba.com/wp-content/uploads/2022/08/nitrox_diving-1024x683-1.jpeg
END:VEVENT
BEGIN:VEVENT
DTSTART;TZID=America/New_York:20230803T000000
DTEND;TZID=America/New_York:20230807T235959
DTSTAMP:20260423T050343
CREATED:20230421T142647Z
LAST-MODIFIED:20250313T175443Z
UID:10000555-1691020800-1691452799@athensscuba.com
SUMMARY:Fort Lauderdale Dive Trip
DESCRIPTION:We have planned a great trip to Fort Lauderdale\, Florida from August 3rd to 7th.  This will be a fun and relaxed getaway\, for newly certified divers and experienced divers alike! Fort Lauderdale offers Florida Keys like diving with usually little current and beautiful warm water.   We are planning to drive or fly down to Fort Lauderdale on Thursday August 3rd\, dive Friday\, Saturday\, Sunday and drive/fly back on Monday August 7th. The trip includes accommodations in the Bahia Mar Fort Lauderdale Beach Resort.  The hotel is right across a street from the hotels own beach where you can rent beach chairs on our afternoons off.  The hotel has a variety of room options.  We offer the courtyard and marina view rooms.  You have the choice between a one (King or Queen)\, or two bed (double) configuration.   The hotel is just a short taxi or uber ride away from the Fort Lauderdale International Airport. Self parking fee is reduced for us to $20 per day and $25 for valet parking. The hotel offers a pre booked amenity package with the resort fee of $37 per night/per room.  Daily Resort Charge includes: Guest internet access; two beach loungers and towels; beach bike rentals for two; two bottles of water daily; first daily beverage at High Tide Lounge; daily kids’ breakfast (up to 3 children).   We will do double tank boat trips Friday\, Saturday and Sunday morning. Tanks\, weights\, dive guides and boat rides are included in the trip package. Usually the dive operator takes the divers to one of the many wrecks in the area for the first dive and a shallow reef dive for the second dive.  All dives are suitable for all certified divers. This trip would be great to do the Advanced Open Water Diver class. Inculded: Travel from Aug. 3rd to Aug. 7th  4 nights at the Bahia Mar Fort Lauderdale Beach Resort   3 days of two tank boat diving with air\, Nitrox available for a small up charge of $5 per tank (please let me know up front if you prefer to dive on nitrox). Rental gear\, drive/flights\, meals\, drinks and possible certifications are NOT included For information on single occupancy\, extra dives\, and other special requests\, please email ben@athensscuba.com
URL:https://athensscuba.com/event/fort-lauderdale-dive-trip/
CATEGORIES:Advanced Dives,Dive Trips To Different Locations,Local Event
ATTACH;FMTTYPE=image/jpeg:https://athensscuba.com/wp-content/uploads/2023/04/b5af084b-14c0-4423-9743-9d9f15446470.jpeg
END:VEVENT
BEGIN:VEVENT
DTSTART;TZID=America/New_York:20230709T130000
DTEND;TZID=America/New_York:20230709T180000
DTSTAMP:20260423T050343
CREATED:20221219T215818Z
LAST-MODIFIED:20250313T175443Z
UID:10000531-1688907600-1688925600@athensscuba.com
SUMMARY:Lake Jocassee Charter
DESCRIPTION:2 dives from our custom build dive boats on beautiful lake Jocassee\, including tanks and weights
URL:https://athensscuba.com/event/lake-jocassee-charter-11/
LOCATION:Devils Fork State Park\, Lake Jocassee\, 161 Holcombe Cir\, Salem\, South Carolina\, 29676\, United States
CATEGORIES:Local Event,Training & Certification Courses
ATTACH;FMTTYPE=image/jpeg:https://athensscuba.com/wp-content/uploads/2021/07/79191.jpg
END:VEVENT
BEGIN:VEVENT
DTSTART;TZID=America/New_York:20230709T080000
DTEND;TZID=America/New_York:20230709T130000
DTSTAMP:20260423T050343
CREATED:20221219T215746Z
LAST-MODIFIED:20250313T175443Z
UID:10000530-1688889600-1688907600@athensscuba.com
SUMMARY:Lake Jocassee Charter
DESCRIPTION:2 dives from our custom build dive boats on beautiful lake Jocassee\, including tanks and weights
URL:https://athensscuba.com/event/lake-jocassee-charter-10/
LOCATION:Devils Fork State Park\, Lake Jocassee\, 161 Holcombe Cir\, Salem\, South Carolina\, 29676\, United States
CATEGORIES:Local Event,Training & Certification Courses
ATTACH;FMTTYPE=image/jpeg:https://athensscuba.com/wp-content/uploads/2021/07/79191.jpg
END:VEVENT
BEGIN:VEVENT
DTSTART;TZID=America/New_York:20230708T130000
DTEND;TZID=America/New_York:20230708T180000
DTSTAMP:20260423T050343
CREATED:20221219T215710Z
LAST-MODIFIED:20250313T175443Z
UID:10000529-1688821200-1688839200@athensscuba.com
SUMMARY:Lake Jocassee Charter
DESCRIPTION:2 dives from our custom build dive boats on beautiful lake Jocassee\, including tanks and weights
URL:https://athensscuba.com/event/lake-jocassee-charter-9/
LOCATION:Devils Fork State Park\, Lake Jocassee\, 161 Holcombe Cir\, Salem\, South Carolina\, 29676\, United States
CATEGORIES:Local Event,Training & Certification Courses
ATTACH;FMTTYPE=image/jpeg:https://athensscuba.com/wp-content/uploads/2021/07/79191.jpg
END:VEVENT
BEGIN:VEVENT
DTSTART;TZID=America/New_York:20230708T080000
DTEND;TZID=America/New_York:20230708T130000
DTSTAMP:20260423T050343
CREATED:20221219T215647Z
LAST-MODIFIED:20250313T175443Z
UID:10000528-1688803200-1688821200@athensscuba.com
SUMMARY:Lake Jocassee Charter
DESCRIPTION:2 dives from our custom build dive boats on beautiful lake Jocassee\, including tanks and weights
URL:https://athensscuba.com/event/lake-jocassee-charter-8/
LOCATION:Devils Fork State Park\, Lake Jocassee\, 161 Holcombe Cir\, Salem\, South Carolina\, 29676\, United States
CATEGORIES:Local Event,Training & Certification Courses
ATTACH;FMTTYPE=image/jpeg:https://athensscuba.com/wp-content/uploads/2021/07/79191.jpg
END:VEVENT
BEGIN:VEVENT
DTSTART;TZID=America/New_York:20230625T130000
DTEND;TZID=America/New_York:20230625T180000
DTSTAMP:20260423T050343
CREATED:20221206T203958Z
LAST-MODIFIED:20250313T175444Z
UID:10000522-1687698000-1687716000@athensscuba.com
SUMMARY:Lake Jocassee Charter
DESCRIPTION:2 dives from our custom build dive boats on beautiful lake Jocassee\, including tanks and weights
URL:https://athensscuba.com/event/lake-jocassee-charter-4/
LOCATION:Devils Fork State Park\, Lake Jocassee\, 161 Holcombe Cir\, Salem\, South Carolina\, 29676\, United States
CATEGORIES:Local Event,Training & Certification Courses
ATTACH;FMTTYPE=image/jpeg:https://athensscuba.com/wp-content/uploads/2021/07/79191.jpg
END:VEVENT
BEGIN:VEVENT
DTSTART;TZID=America/New_York:20230625T080000
DTEND;TZID=America/New_York:20230625T130000
DTSTAMP:20260423T050343
CREATED:20221219T215605Z
LAST-MODIFIED:20250313T175444Z
UID:10000527-1687680000-1687698000@athensscuba.com
SUMMARY:Lake Jocassee Charter
DESCRIPTION:2 dives from our custom build dive boats on beautiful lake Jocassee\, including tanks and weights
URL:https://athensscuba.com/event/lake-jocassee-charter-7/
LOCATION:Devils Fork State Park\, Lake Jocassee\, 161 Holcombe Cir\, Salem\, South Carolina\, 29676\, United States
CATEGORIES:Local Event,Training & Certification Courses
ATTACH;FMTTYPE=image/jpeg:https://athensscuba.com/wp-content/uploads/2021/07/79191.jpg
END:VEVENT
BEGIN:VEVENT
DTSTART;TZID=America/New_York:20230624T130000
DTEND;TZID=America/New_York:20230624T180000
DTSTAMP:20260423T050343
CREATED:20221219T215538Z
LAST-MODIFIED:20250313T175444Z
UID:10000526-1687611600-1687629600@athensscuba.com
SUMMARY:Lake Jocassee Charter
DESCRIPTION:2 dives from our custom build dive boats on beautiful lake Jocassee\, including tanks and weights
URL:https://athensscuba.com/event/lake-jocassee-charter-6/
LOCATION:Devils Fork State Park\, Lake Jocassee\, 161 Holcombe Cir\, Salem\, South Carolina\, 29676\, United States
CATEGORIES:Local Event,Training & Certification Courses
ATTACH;FMTTYPE=image/jpeg:https://athensscuba.com/wp-content/uploads/2021/07/79191.jpg
END:VEVENT
BEGIN:VEVENT
DTSTART;TZID=America/New_York:20230624T080000
DTEND;TZID=America/New_York:20230624T130000
DTSTAMP:20260423T050343
CREATED:20221219T215511Z
LAST-MODIFIED:20250313T175445Z
UID:10000525-1687593600-1687611600@athensscuba.com
SUMMARY:Lake Jocassee Charter
DESCRIPTION:2 dives from our custom build dive boats on beautiful lake Jocassee\, including tanks and weights
URL:https://athensscuba.com/event/lake-jocassee-charter-5/
LOCATION:Devils Fork State Park\, Lake Jocassee\, 161 Holcombe Cir\, Salem\, South Carolina\, 29676\, United States
CATEGORIES:Local Event,Training & Certification Courses
ATTACH;FMTTYPE=image/jpeg:https://athensscuba.com/wp-content/uploads/2021/07/79191.jpg
END:VEVENT
BEGIN:VEVENT
DTSTART;TZID=America/New_York:20230612T000000
DTEND;TZID=America/New_York:20230616T235959
DTSTAMP:20260423T050343
CREATED:20230201T235741Z
LAST-MODIFIED:20250313T175445Z
UID:10000548-1686528000-1686959999@athensscuba.com
SUMMARY:Scuba Summer Camp
DESCRIPTION:We are organizing a SCUBA SUMMER CAMP in Watkinsville from June 27th to July 1st. The Scuba Camp will take place at the Georgia Aquatic Center in WatkinsvilleAthens Scuba is proud to announce that we are organizing another Scuba Summer Camp for kids from age 10 to 15!  We are excited to teach children a variety of knowledge and skills around scuba diving\, snorkeling and swimming. In this summer camp\, required academics will be mixed with fun facts and educational videos. Water skills will be blended with fun activities\, free diving and more\, all of which will assist the future scuba divers in developing a better finning technique and airway control. The camp will not fully certify the participant\, but it will cover 2/3 of the full PADI Open Water Diver course. We will finish all knowledge and basic skill training with the children. The four check out dives required for full certification will be offered as an add-on later in the summer because the dives can’t be completed in a pool. Teaching scuba diving at the Georgia Aquatic CenterRequirements: Minimum age is 10 years\n\nKids must be able to swim before the camp starts\n\nCertain medical conditions will require a physicians sign offThe 5 Day Summer Camp from June 12th to June 16th 2023 includes: Daily Supervision from 9AM to 3 PM\n\nTwo dive professionals in the water at all times while the campers are in \n\nLife guard on duty whenever the campers will be in the water\n\nSwim development\, supervised by a professional swim coach on days one and two\n\nSwim and snorkeling development throughout the week\n\nScuba knowledge development according to PADI standards\n\nScuba skill development according to PADI standards\n\nEach child gets their own gear set with a Mask\, Fins and Snorkel\n\nSnacks \n\nWater \n\n“Pizza party” on Friday afternoon with parentsParents are invited to join us Friday afternoon to check out the skills their children have learned and are encouraged to hop in and try scuba diving for free with us as well! Total price is $795 The price DOES NOT INCLUDE check out dives or lunch. For more information or questions about the scuba summer camp\, please email ben@athensscuba.com
URL:https://athensscuba.com/event/scuba-summer-camp-2/
LOCATION:Georgia Aquatic Center\, 1545 S Bishop Parkway\, Watkinsville\, Georgia\, 30677\, United States
CATEGORIES:Advanced Dives,Dive Trips To Different Locations,Local Event,Training & Certification Courses
ATTACH;FMTTYPE=image/jpeg:https://athensscuba.com/wp-content/uploads/2021/07/79186.jpg
END:VEVENT
BEGIN:VEVENT
DTSTART;TZID=America/New_York:20230611T080000
DTEND;TZID=America/New_York:20230611T130000
DTSTAMP:20260423T050343
CREATED:20221206T203938Z
LAST-MODIFIED:20250313T175445Z
UID:10000521-1686470400-1686488400@athensscuba.com
SUMMARY:Lake Jocassee Charter
DESCRIPTION:2 dives from our custom build dive boats on beautiful lake Jocassee\, including tanks and weights
URL:https://athensscuba.com/event/lake-jocassee-charter-3/
LOCATION:Devils Fork State Park\, Lake Jocassee\, 161 Holcombe Cir\, Salem\, South Carolina\, 29676\, United States
CATEGORIES:Local Event,Training & Certification Courses
ATTACH;FMTTYPE=image/jpeg:https://athensscuba.com/wp-content/uploads/2021/07/79191.jpg
END:VEVENT
BEGIN:VEVENT
DTSTART;TZID=America/New_York:20230610T130000
DTEND;TZID=America/New_York:20230610T180000
DTSTAMP:20260423T050343
CREATED:20221206T203809Z
LAST-MODIFIED:20250313T175445Z
UID:10000520-1686402000-1686420000@athensscuba.com
SUMMARY:Lake Jocassee Charter
DESCRIPTION:2 dives from our custom build dive boats on beautiful lake Jocassee\, including tanks and weights
URL:https://athensscuba.com/event/lake-jocassee-charter-2/
LOCATION:Devils Fork State Park\, Lake Jocassee\, 161 Holcombe Cir\, Salem\, South Carolina\, 29676\, United States
CATEGORIES:Local Event,Training & Certification Courses
ATTACH;FMTTYPE=image/jpeg:https://athensscuba.com/wp-content/uploads/2021/07/79191.jpg
END:VEVENT
BEGIN:VEVENT
DTSTART;TZID=America/New_York:20230610T080000
DTEND;TZID=America/New_York:20230610T130000
DTSTAMP:20260423T050343
CREATED:20221206T203733Z
LAST-MODIFIED:20250313T175446Z
UID:10000519-1686384000-1686402000@athensscuba.com
SUMMARY:Lake Jocassee Charter
DESCRIPTION:2 dives from our custom build dive boats on beautiful lake Jocassee\, including tanks and weights
URL:https://athensscuba.com/event/lake-jocassee-charter/
LOCATION:Devils Fork State Park\, Lake Jocassee\, 161 Holcombe Cir\, Salem\, South Carolina\, 29676\, United States
CATEGORIES:Local Event,Training & Certification Courses
ATTACH;FMTTYPE=image/jpeg:https://athensscuba.com/wp-content/uploads/2021/07/79191.jpg
END:VEVENT
END:VCALENDAR